OziExplorer Map Data File Version 2.2
M-38-007_Аткарск_81
M-38-007_81_300.ozf2
1 ,Map Code,
Pulkovo 1942 (2),, 0.0000, 0.0000,WGS 84
Reserved 1
Reserved 2
Magnetic Variation,,,E
Map Projection,Transverse Mercator,PolyCal,No,AutoCalOnly,No,BSBUseWPX,No
Point01,xy, 139, 221,in, deg, 52, 0.0000,N, 45, 0.0000,E, grid, , , ,N
Point02,xy, 2160, 200,ex, deg, 52, 0.0000,N, 45, 15.0000,E, grid, , , ,N
Point03,xy, 4194, 233,in, deg, 52, 0.0000,N, 45, 30.0000,E, grid, , , ,N
Point04,xy, 100, 2427,ex, deg, 51, 50.0000,N, 45, 0.0000,E, grid, , , ,N
Point05,xy, 2162, 2425,in, deg, 51, 50.0000,N, 45, 15.0000,E, grid, , , ,N
Point06,xy, 4221, 2427,ex, deg, 51, 50.0000,N, 45, 30.0000,E, grid, , , ,N
Point07,xy, 119, 4609,in, deg, 51, 40.0000,N, 45, 0.0000,E, grid, , , ,N
Point08,xy, 2160, 4654,ex, deg, 51, 40.0000,N, 45, 15.0000,E, grid, , , ,N
Point09,xy, 4200, 4623,in, deg, 51, 40.0000,N, 45, 30.0000,E, grid, , , ,N
Point10,xy, , ,in, deg, , ,N, , ,W, grid, , , ,N
Point11,xy, , ,in, deg, , ,N, , ,W, grid, , , ,N
Point12,xy, , ,in, deg, , ,N, , ,W, grid, , , ,N
Point13,xy, , ,in, deg, , ,N, , ,W, grid, , , ,N
Point14,xy, , ,in, deg, , ,N, , ,W, grid, , , ,N
Point15,xy, , ,in, deg, , ,N, , ,W, grid, , , ,N
Point16,xy, , ,in, deg, , ,N, , ,W, grid, , , ,N
Point17,xy, , ,in, deg, , ,N, , ,W, grid, , , ,N
Point18,xy, , ,in, deg, , ,N, , ,W, grid, , , ,N
Point19,xy, , ,in, deg, , ,N, , ,W, grid, , , ,N
Point20,xy, , ,in, deg, , ,N, , ,W, grid, , , ,N
Point21,xy, , ,in, deg, , ,N, , ,W, grid, , , ,N
Point22,xy, , ,in, deg, , ,N, , ,W, grid, , , ,N
Point23,xy, , ,in, deg, , ,N, , ,W, grid, , , ,N
Point24,xy, , ,in, deg, , ,N, , ,W, grid, , , ,N
Point25,xy, , ,in, deg, , ,N, , ,W, grid, , , ,N
Point26,xy, , ,in, deg, , ,N, , ,W, grid, , , ,N
Point27,xy, , ,in, deg, , ,N, , ,W, grid, , , ,N
Point28,xy, , ,in, deg, , ,N, , ,W, grid, , , ,N
Point29,xy, , ,in, deg, , ,N, , ,W, grid, , , ,N
Point30,xy, , ,in, deg, , ,N, , ,W, grid, , , ,N
Projection Setup, 0.000000000, 45.000000000, 1.000000000, 500000.00, 0.00,,,,,
Map Feature = MF ; Map Comment = MC These follow if they exist MC, 1, 52.001000, 44.999000, 0, 0, 13158342,0,0,8,1 M-38-007_Аткарск_Россия_Саратовская_79_81_4_204_24.06.2004 11:59:57_0_300
Track File = TF These follow if they exist
Moving Map Parameters = MM? These follow if they exist
MM0,Yes
MMPNUM,4
MMPXY,1,138,220
MMPXY,2,4195,232
MMPXY,3,4201,4624
MMPXY,4,118,4610
MMPLL,1, 44.999776, 52.000040
MMPLL,2, 45.500273, 52.000111
MMPLL,3, 45.500024, 51.666555
MMPLL,4, 45.000025, 51.666625
MM1B,8.469133
MOP,Map Open Position,0,0
IWH,Map Image Width/Height,4321,4954
