OziExplorer Map Data File Version 2.2
M-38-033_Тарлыковка_91
M-38-033_91_300.ozf2
1 ,Map Code,
Pulkovo 1942 (2),, 0.0000, 0.0000,WGS 84
Reserved 1
Reserved 2
Magnetic Variation,,,E
Map Projection,Transverse Mercator,PolyCal,No,AutoCalOnly,No,BSBUseWPX,No
Point01,xy, 165, 216,in, deg, 51, 20.0000,N, 46, 0.0000,E, grid, , , ,N
Point02,xy, 2217, 200,ex, deg, 51, 20.0000,N, 46, 15.0000,E, grid, , , ,N
Point03,xy, 4280, 231,in, deg, 51, 20.0000,N, 46, 30.0000,E, grid, , , ,N
Point04,xy, 100, 2432,ex, deg, 51, 10.0000,N, 46, 0.0000,E, grid, , , ,N
Point05,xy, 2220, 2413,in, deg, 51, 10.0000,N, 46, 15.0000,E, grid, , , ,N
Point06,xy, 4334, 2432,ex, deg, 51, 10.0000,N, 46, 30.0000,E, grid, , , ,N
Point07,xy, 146, 4597,in, deg, 51, 0.0000,N, 46, 0.0000,E, grid, , , ,N
Point08,xy, 2217, 4663,ex, deg, 51, 0.0000,N, 46, 15.0000,E, grid, , , ,N
Point09,xy, 4288, 4607,in, deg, 51, 0.0000,N, 46, 30.0000,E, grid, , , ,N
Point10,xy, , ,in, deg, , ,N, , ,W, grid, , , ,N
Point11,xy, , ,in, deg, , ,N, , ,W, grid, , , ,N
Point12,xy, , ,in, deg, , ,N, , ,W, grid, , , ,N
Point13,xy, , ,in, deg, , ,N, , ,W, grid, , , ,N
Point14,xy, , ,in, deg, , ,N, , ,W, grid, , , ,N
Point15,xy, , ,in, deg, , ,N, , ,W, grid, , , ,N
Point16,xy, , ,in, deg, , ,N, , ,W, grid, , , ,N
Point17,xy, , ,in, deg, , ,N, , ,W, grid, , , ,N
Point18,xy, , ,in, deg, , ,N, , ,W, grid, , , ,N
Point19,xy, , ,in, deg, , ,N, , ,W, grid, , , ,N
Point20,xy, , ,in, deg, , ,N, , ,W, grid, , , ,N
Point21,xy, , ,in, deg, , ,N, , ,W, grid, , , ,N
Point22,xy, , ,in, deg, , ,N, , ,W, grid, , , ,N
Point23,xy, , ,in, deg, , ,N, , ,W, grid, , , ,N
Point24,xy, , ,in, deg, , ,N, , ,W, grid, , , ,N
Point25,xy, , ,in, deg, , ,N, , ,W, grid, , , ,N
Point26,xy, , ,in, deg, , ,N, , ,W, grid, , , ,N
Point27,xy, , ,in, deg, , ,N, , ,W, grid, , , ,N
Point28,xy, , ,in, deg, , ,N, , ,W, grid, , , ,N
Point29,xy, , ,in, deg, , ,N, , ,W, grid, , , ,N
Point30,xy, , ,in, deg, , ,N, , ,W, grid, , , ,N
Projection Setup, 0.000000000, 45.000000000, 1.000000000, 500000.00, 0.00,,,,,
Map Feature = MF ; Map Comment = MC These follow if they exist MC, 1, 51.334333, 45.999000, 0, 0, 13158342,0,0,8,1 M-38-033_Тарлыковка_Россия_Саратовская_87_91_4_205_24.06.2004 11:59:57_0_300
Track File = TF These follow if they exist
Moving Map Parameters = MM? These follow if they exist
MM0,Yes
MMPNUM,4
MMPXY,1,164,215
MMPXY,2,4281,230
MMPXY,3,4289,4608
MMPXY,4,145,4598
MMPLL,1, 45.999787, 51.333462
MMPLL,2, 46.500200, 51.333256
MMPLL,3, 46.500031, 50.999976
MMPLL,4, 45.999958, 50.999771
MM1B,8.466927
MOP,Map Open Position,0,0
IWH,Map Image Width/Height,4434,4963
