OziExplorer Map Data File Version 2.2
M-38-045_Ровное_85
M-38-045_85_300.ozf2
1 ,Map Code,
Pulkovo 1942 (2),, 0.0000, 0.0000,WGS 84
Reserved 1
Reserved 2
Magnetic Variation,,,E
Map Projection,Transverse Mercator,PolyCal,No,AutoCalOnly,No,BSBUseWPX,No
Point01,xy, 164, 230,in, deg, 51, 0.0000,N, 46, 0.0000,E, grid, , , ,N
Point02,xy, 2234, 200,ex, deg, 51, 0.0000,N, 46, 15.0000,E, grid, , , ,N
Point03,xy, 4307, 239,in, deg, 51, 0.0000,N, 46, 30.0000,E, grid, , , ,N
Point04,xy, 100, 2428,ex, deg, 50, 50.0000,N, 46, 0.0000,E, grid, , , ,N
Point05,xy, 2238, 2428,in, deg, 50, 50.0000,N, 46, 15.0000,E, grid, , , ,N
Point06,xy, 4368, 2428,ex, deg, 50, 50.0000,N, 46, 30.0000,E, grid, , , ,N
Point07,xy, 150, 4612,in, deg, 50, 40.0000,N, 46, 0.0000,E, grid, , , ,N
Point08,xy, 2234, 4656,ex, deg, 50, 40.0000,N, 46, 15.0000,E, grid, , , ,N
Point09,xy, 4323, 4621,in, deg, 50, 40.0000,N, 46, 30.0000,E, grid, , , ,N
Point10,xy, , ,in, deg, , ,N, , ,W, grid, , , ,N
Point11,xy, , ,in, deg, , ,N, , ,W, grid, , , ,N
Point12,xy, , ,in, deg, , ,N, , ,W, grid, , , ,N
Point13,xy, , ,in, deg, , ,N, , ,W, grid, , , ,N
Point14,xy, , ,in, deg, , ,N, , ,W, grid, , , ,N
Point15,xy, , ,in, deg, , ,N, , ,W, grid, , , ,N
Point16,xy, , ,in, deg, , ,N, , ,W, grid, , , ,N
Point17,xy, , ,in, deg, , ,N, , ,W, grid, , , ,N
Point18,xy, , ,in, deg, , ,N, , ,W, grid, , , ,N
Point19,xy, , ,in, deg, , ,N, , ,W, grid, , , ,N
Point20,xy, , ,in, deg, , ,N, , ,W, grid, , , ,N
Point21,xy, , ,in, deg, , ,N, , ,W, grid, , , ,N
Point22,xy, , ,in, deg, , ,N, , ,W, grid, , , ,N
Point23,xy, , ,in, deg, , ,N, , ,W, grid, , , ,N
Point24,xy, , ,in, deg, , ,N, , ,W, grid, , , ,N
Point25,xy, , ,in, deg, , ,N, , ,W, grid, , , ,N
Point26,xy, , ,in, deg, , ,N, , ,W, grid, , , ,N
Point27,xy, , ,in, deg, , ,N, , ,W, grid, , , ,N
Point28,xy, , ,in, deg, , ,N, , ,W, grid, , , ,N
Point29,xy, , ,in, deg, , ,N, , ,W, grid, , , ,N
Point30,xy, , ,in, deg, , ,N, , ,W, grid, , , ,N
Projection Setup, 0.000000000, 45.000000000, 1.000000000, 500000.00, 0.00,,,,,
Map Feature = MF ; Map Comment = MC These follow if they exist MC, 1, 51.001000, 45.999000, 0, 0, 13158342,0,0,8,1 M-38-045_Ровное_Россия_Волгоградская,Саратовская_80_85_4_206_24.06.2004 11:59:57_0_300
Track File = TF These follow if they exist
Moving Map Parameters = MM? These follow if they exist
MM0,Yes
MMPNUM,4
MMPXY,1,163,229
MMPXY,2,4308,238
MMPXY,3,4324,4622
MMPXY,4,149,4613
MMPLL,1, 45.999842, 51.000067
MMPLL,2, 46.500061, 51.000052
MMPLL,3, 46.500083, 50.666582
MMPLL,4, 45.999821, 50.666566
MM1B,8.467483
MOP,Map Open Position,0,0
IWH,Map Image Width/Height,4468,4956
