OziExplorer Map Data File Version 2.2
M-38-048_Алексашкино_84
M-38-048_84_300.ozf2
1 ,Map Code,
Pulkovo 1942 (2),, 0.0000, 0.0000,WGS 84
Reserved 1
Reserved 2
Magnetic Variation,,,E
Map Projection,Transverse Mercator,PolyCal,No,AutoCalOnly,No,BSBUseWPX,No
Point01,xy, 160, 228,in, deg, 51, 0.0000,N, 47, 30.0000,E, grid, , , ,N
Point02,xy, 2236, 200,ex, deg, 51, 0.0000,N, 47, 45.0000,E, grid, , , ,N
Point03,xy, 4304, 238,in, deg, 51, 0.0000,N, 48, 0.0000,E, grid, , , ,N
Point04,xy, 100, 2432,ex, deg, 50, 50.0000,N, 47, 30.0000,E, grid, , , ,N
Point05,xy, 2234, 2431,in, deg, 50, 50.0000,N, 47, 45.0000,E, grid, , , ,N
Point06,xy, 4371, 2432,ex, deg, 50, 50.0000,N, 48, 0.0000,E, grid, , , ,N
Point07,xy, 149, 4616,in, deg, 50, 40.0000,N, 47, 30.0000,E, grid, , , ,N
Point08,xy, 2236, 4663,ex, deg, 50, 40.0000,N, 47, 45.0000,E, grid, , , ,N
Point09,xy, 4321, 4626,in, deg, 50, 40.0000,N, 48, 0.0000,E, grid, , , ,N
Point10,xy, , ,in, deg, , ,N, , ,W, grid, , , ,N
Point11,xy, , ,in, deg, , ,N, , ,W, grid, , , ,N
Point12,xy, , ,in, deg, , ,N, , ,W, grid, , , ,N
Point13,xy, , ,in, deg, , ,N, , ,W, grid, , , ,N
Point14,xy, , ,in, deg, , ,N, , ,W, grid, , , ,N
Point15,xy, , ,in, deg, , ,N, , ,W, grid, , , ,N
Point16,xy, , ,in, deg, , ,N, , ,W, grid, , , ,N
Point17,xy, , ,in, deg, , ,N, , ,W, grid, , , ,N
Point18,xy, , ,in, deg, , ,N, , ,W, grid, , , ,N
Point19,xy, , ,in, deg, , ,N, , ,W, grid, , , ,N
Point20,xy, , ,in, deg, , ,N, , ,W, grid, , , ,N
Point21,xy, , ,in, deg, , ,N, , ,W, grid, , , ,N
Point22,xy, , ,in, deg, , ,N, , ,W, grid, , , ,N
Point23,xy, , ,in, deg, , ,N, , ,W, grid, , , ,N
Point24,xy, , ,in, deg, , ,N, , ,W, grid, , , ,N
Point25,xy, , ,in, deg, , ,N, , ,W, grid, , , ,N
Point26,xy, , ,in, deg, , ,N, , ,W, grid, , , ,N
Point27,xy, , ,in, deg, , ,N, , ,W, grid, , , ,N
Point28,xy, , ,in, deg, , ,N, , ,W, grid, , , ,N
Point29,xy, , ,in, deg, , ,N, , ,W, grid, , , ,N
Point30,xy, , ,in, deg, , ,N, , ,W, grid, , , ,N
Projection Setup, 0.000000000, 45.000000000, 1.000000000, 500000.00, 0.00,,,,,
Map Feature = MF ; Map Comment = MC These follow if they exist MC, 1, 51.001000, 47.499000, 0, 0, 13158342,0,0,8,1 M-38-048_Алексашкино_Россия_Саратовская_80_84_3_205_24.06.2004 11:59:57_0_300
Track File = TF These follow if they exist
Moving Map Parameters = MM? These follow if they exist
MM0,Yes
MMPNUM,4
MMPXY,1,159,227
MMPXY,2,4305,237
MMPXY,3,4322,4627
MMPXY,4,148,4617
MMPLL,1, 47.499817, 51.000097
MMPLL,2, 48.000159, 51.000067
MMPLL,3, 48.000059, 50.666613
MMPLL,4, 47.499918, 50.666582
MM1B,8.465491
MOP,Map Open Position,0,0
IWH,Map Image Width/Height,4471,4963
