OziExplorer Map Data File Version 2.2
m38-050
Y:\ozi_map\work_map\1\m38-050.jpg
1 ,Map Code,
Pulkovo 1942 (1),, 0.0000, 0.0000,WGS 84
Reserved 1
Reserved 2
Magnetic Variation,,,E
Map Projection,Transverse Mercator,PolyCal,Yes,AutoCalOnly,No,BSBUseWPX,No
Point01,xy, 176, 250,in, deg, 50, 40.0000,N, 42, 30.0000,E, grid, , , ,N
Point02,xy, 1566, 249,in, deg, 50, 40.0000,N, 42, 45.0000,E, grid, , , ,N
Point03,xy, 2958, 243,in, deg, 50, 40.0000,N, 43, 0.0000,E, grid, , , ,N
Point04,xy, 169, 1713,in, deg, 50, 30.0000,N, 42, 30.0000,E, grid, , , ,N
Point05,xy, 1566, 1712,in, deg, 50, 30.0000,N, 42, 45.0000,E, grid, , , ,N
Point06,xy, 2960, 1705,in, deg, 50, 30.0000,N, 43, 0.0000,E, grid, , , ,N
Point07,xy, 162, 3174,in, deg, 50, 20.0000,N, 42, 30.0000,E, grid, , , ,N
Point08,xy, 1561, 3174,in, deg, 50, 20.0000,N, 42, 45.0000,E, grid, , , ,N
Point09,xy, 2962, 3167,in, deg, 50, 20.0000,N, 43, 0.0000,E, grid, , , ,N
Point10,xy, , ,in, deg, , ,, , ,, grid, , , ,N
Point11,xy, , ,in, deg, , ,, , ,, grid, , , ,N
Point12,xy, , ,in, deg, , ,, , ,, grid, , , ,N
Point13,xy, , ,in, deg, , ,, , ,, grid, , , ,N
Point14,xy, , ,in, deg, , ,, , ,, grid, , , ,N
Point15,xy, , ,in, deg, , ,, , ,, grid, , , ,N
Point16,xy, , ,in, deg, , ,, , ,, grid, , , ,N
Point17,xy, , ,in, deg, , ,, , ,, grid, , , ,N
Point18,xy, , ,in, deg, , ,, , ,, grid, , , ,N
Point19,xy, , ,in, deg, , ,, , ,, grid, , , ,N
Point20,xy, , ,in, deg, , ,, , ,, grid, , , ,N
Point21,xy, , ,in, deg, , ,, , ,, grid, , , ,N
Point22,xy, , ,in, deg, , ,, , ,, grid, , , ,N
Point23,xy, , ,in, deg, , ,, , ,, grid, , , ,N
Point24,xy, , ,in, deg, , ,, , ,, grid, , , ,N
Point25,xy, , ,in, deg, , ,, , ,, grid, , , ,N
Point26,xy, , ,in, deg, , ,, , ,, grid, , , ,N
Point27,xy, , ,in, deg, , ,, , ,, grid, , , ,N
Point28,xy, , ,in, deg, , ,, , ,, grid, , , ,N
Point29,xy, , ,in, deg, , ,, , ,, grid, , , ,N
Point30,xy, , ,in, deg, , ,, , ,, grid, , , ,N
Projection Setup, 0.000000000, 45.000000000, 1.000000000, 8500000.00, 0.00,,,,,
Map Feature = MF ; Map Comment = MC These follow if they exist
Track File = TF These follow if they exist
Moving Map Parameters = MM? These follow if they exist
MM0,Yes
MMPNUM,4
MMPXY,1,173,248
MMPXY,2,2961,241
MMPXY,3,2963,3169
MMPXY,4,159,3178
MMPLL,1, 42.499509, 50.666894
MMPLL,2, 43.000590, 50.666854
MMPLL,3, 43.000228, 50.333104
MMPLL,4, 42.499517, 50.332914
MM1B,12.702407
Other Grid Setup
GRGRID,Yes,2 Km,No,16711680,255,2 Km,0,16777215,8,0,Yes,Yes,No,x
MOP,Map Open Position,0,0
IWH,Map Image Width/Height,3139,3465
