OziExplorer Map Data File Version 2.2
m38-075
Y:\ozi_map\work_map\1\m38-075.jpg
1 ,Map Code,
Pulkovo 1942 (1),, 0.0000, 0.0000,WGS 84
Reserved 1
Reserved 2
Magnetic Variation,,,E
Map Projection,Transverse Mercator,PolyCal,Yes,AutoCalOnly,No,BSBUseWPX,No
Point01,xy, 92, 140,in, deg, 50, 0.0000,N, 43, 0.0000,E, grid, , , ,N
Point02,xy, 1153, 143,in, deg, 50, 0.0000,N, 43, 15.0000,E, grid, , , ,N
Point03,xy, 2214, 142,in, deg, 50, 0.0000,N, 43, 30.0000,E, grid, , , ,N
Point04,xy, 90, 1238,in, deg, 49, 50.0000,N, 43, 0.0000,E, grid, , , ,N
Point05,xy, 1153, 1242,in, deg, 49, 50.0000,N, 43, 15.0000,E, grid, , , ,N
Point06,xy, 2218, 1240,in, deg, 49, 50.0000,N, 43, 30.0000,E, grid, , , ,N
Point07,xy, 87, 2337,in, deg, 49, 40.0000,N, 43, 0.0000,E, grid, , , ,N
Point08,xy, 1155, 2337,in, deg, 49, 40.0000,N, 43, 15.0000,E, grid, , , ,N
Point09,xy, 2222, 2335,in, deg, 49, 40.0000,N, 43, 30.0000,E, grid, , , ,N
Point10,xy, , ,in, deg, , ,, , ,, grid, , , ,N
Point11,xy, , ,in, deg, , ,, , ,, grid, , , ,N
Point12,xy, , ,in, deg, , ,, , ,, grid, , , ,N
Point13,xy, , ,in, deg, , ,, , ,, grid, , , ,N
Point14,xy, , ,in, deg, , ,, , ,, grid, , , ,N
Point15,xy, , ,in, deg, , ,, , ,, grid, , , ,N
Point16,xy, , ,in, deg, , ,, , ,, grid, , , ,N
Point17,xy, , ,in, deg, , ,, , ,, grid, , , ,N
Point18,xy, , ,in, deg, , ,, , ,, grid, , , ,N
Point19,xy, , ,in, deg, , ,, , ,, grid, , , ,N
Point20,xy, , ,in, deg, , ,, , ,, grid, , , ,N
Point21,xy, , ,in, deg, , ,, , ,, grid, , , ,N
Point22,xy, , ,in, deg, , ,, , ,, grid, , , ,N
Point23,xy, , ,in, deg, , ,, , ,, grid, , , ,N
Point24,xy, , ,in, deg, , ,, , ,, grid, , , ,N
Point25,xy, , ,in, deg, , ,, , ,, grid, , , ,N
Point26,xy, , ,in, deg, , ,, , ,, grid, , , ,N
Point27,xy, , ,in, deg, , ,, , ,, grid, , , ,N
Point28,xy, , ,in, deg, , ,, , ,, grid, , , ,N
Point29,xy, , ,in, deg, , ,, , ,, grid, , , ,N
Point30,xy, , ,in, deg, , ,, , ,, grid, , , ,N
Projection Setup, 0.000000000, 45.000000000, 1.000000000, 8500000.00, 0.00,,,,,
Map Feature = MF ; Map Comment = MC These follow if they exist
Track File = TF These follow if they exist
Moving Map Parameters = MM? These follow if they exist
MM0,Yes
MMPNUM,4
MMPXY,1,90,139
MMPXY,2,2217,139
MMPXY,3,2226,2339
MMPXY,4,84,2339
MMPLL,1, 42.999495, 50.000099
MMPLL,2, 43.500717, 50.000505
MMPLL,3, 43.500901, 49.666055
MMPLL,4, 42.999226, 49.666260
MM1B,16.893122
Other Grid Setup
GRGRID,Yes,2 Km,No,16711680,255,2 Km,0,16777215,8,0,Yes,Yes,No,x
MOP,Map Open Position,0,0
IWH,Map Image Width/Height,2331,2555
