OziExplorer Map Data File Version 2.2
m38-099
Y:\ozi_map\work_map\1\m38-099.jpg
1 ,Map Code,
Pulkovo 1942 (1),, 0.0000, 0.0000,WGS 84
Reserved 1
Reserved 2
Magnetic Variation,,,E
Map Projection,Transverse Mercator,PolyCal,Yes,AutoCalOnly,No,BSBUseWPX,No
Point01,xy, 90, 166,in, deg, 49, 20.0000,N, 43, 0.0000,E, grid, , , ,N
Point02,xy, 1280, 168,in, deg, 49, 20.0000,N, 43, 15.0000,E, grid, , , ,N
Point03,xy, 2466, 166,in, deg, 49, 20.0000,N, 43, 30.0000,E, grid, , , ,N
Point04,xy, 85, 1384,in, deg, 49, 10.0000,N, 43, 0.0000,E, grid, , , ,N
Point05,xy, 1276, 1384,in, deg, 49, 10.0000,N, 43, 15.0000,E, grid, , , ,N
Point06,xy, 2467, 1382,in, deg, 49, 10.0000,N, 43, 30.0000,E, grid, , , ,N
Point07,xy, 80, 2600,in, deg, 49, 0.0000,N, 43, 0.0000,E, grid, , , ,N
Point08,xy, 1274, 2601,in, deg, 49, 0.0000,N, 43, 15.0000,E, grid, , , ,N
Point09,xy, 2470, 2599,in, deg, 49, 0.0000,N, 43, 30.0000,E, grid, , , ,N
Point10,xy, , ,in, deg, , ,, , ,, grid, , , ,N
Point11,xy, , ,in, deg, , ,, , ,, grid, , , ,N
Point12,xy, , ,in, deg, , ,, , ,, grid, , , ,N
Point13,xy, , ,in, deg, , ,, , ,, grid, , , ,N
Point14,xy, , ,in, deg, , ,, , ,, grid, , , ,N
Point15,xy, , ,in, deg, , ,, , ,, grid, , , ,N
Point16,xy, , ,in, deg, , ,, , ,, grid, , , ,N
Point17,xy, , ,in, deg, , ,, , ,, grid, , , ,N
Point18,xy, , ,in, deg, , ,, , ,, grid, , , ,N
Point19,xy, , ,in, deg, , ,, , ,, grid, , , ,N
Point20,xy, , ,in, deg, , ,, , ,, grid, , , ,N
Point21,xy, , ,in, deg, , ,, , ,, grid, , , ,N
Point22,xy, , ,in, deg, , ,, , ,, grid, , , ,N
Point23,xy, , ,in, deg, , ,, , ,, grid, , , ,N
Point24,xy, , ,in, deg, , ,, , ,, grid, , , ,N
Point25,xy, , ,in, deg, , ,, , ,, grid, , , ,N
Point26,xy, , ,in, deg, , ,, , ,, grid, , , ,N
Point27,xy, , ,in, deg, , ,, , ,, grid, , , ,N
Point28,xy, , ,in, deg, , ,, , ,, grid, , , ,N
Point29,xy, , ,in, deg, , ,, , ,, grid, , , ,N
Point30,xy, , ,in, deg, , ,, , ,, grid, , , ,N
Projection Setup, 0.000000000, 45.000000000, 1.000000000, 8500000.00, 0.00,,,,,
Map Feature = MF ; Map Comment = MC These follow if they exist
Track File = TF These follow if they exist
Moving Map Parameters = MM? These follow if they exist
MM0,Yes
MMPNUM,4
MMPXY,1,88,164
MMPXY,2,2469,163
MMPXY,3,2472,2601
MMPXY,4,78,2603
MMPLL,1, 42.999423, 49.333664
MMPLL,2, 43.500550, 49.333732
MMPLL,3, 43.500546, 48.999691
MMPLL,4, 42.999642, 48.999623
MM1B,15.297551
Other Grid Setup
GRGRID,Yes,2 Km,No,16711680,255,2 Km,0,16777215,8,0,Yes,Yes,No,x
MOP,Map Open Position,0,0
IWH,Map Image Width/Height,2568,2846
