OziExplorer Map Data File Version 2.2
m38-113
Y:\ozi_map\work_map\1\m38-113.jpg
1 ,Map Code,
Pulkovo 1942 (1),, 0.0000, 0.0000,WGS 84
Reserved 1
Reserved 2
Magnetic Variation,,,E
Map Projection,Transverse Mercator,PolyCal,Yes,AutoCalOnly,No,BSBUseWPX,No
Point01,xy, 82, 154,in, deg, 49, 0.0000,N, 44, 0.0000,E, grid, , , ,N
Point02,xy, 1161, 156,in, deg, 49, 0.0000,N, 44, 15.0000,E, grid, , , ,N
Point03,xy, 2240, 156,in, deg, 49, 0.0000,N, 44, 30.0000,E, grid, , , ,N
Point04,xy, 77, 1253,in, deg, 48, 50.0000,N, 44, 0.0000,E, grid, , , ,N
Point05,xy, 1159, 1254,in, deg, 48, 50.0000,N, 44, 15.0000,E, grid, , , ,N
Point06,xy, 2243, 1254,in, deg, 48, 50.0000,N, 44, 30.0000,E, grid, , , ,N
Point07,xy, 72, 2354,in, deg, 48, 40.0000,N, 44, 0.0000,E, grid, , , ,N
Point08,xy, 1158, 2358,in, deg, 48, 40.0000,N, 44, 15.0000,E, grid, , , ,N
Point09,xy, 2245, 2355,in, deg, 48, 40.0000,N, 44, 30.0000,E, grid, , , ,N
Point10,xy, , ,in, deg, , ,, , ,, grid, , , ,N
Point11,xy, , ,in, deg, , ,, , ,, grid, , , ,N
Point12,xy, , ,in, deg, , ,, , ,, grid, , , ,N
Point13,xy, , ,in, deg, , ,, , ,, grid, , , ,N
Point14,xy, , ,in, deg, , ,, , ,, grid, , , ,N
Point15,xy, , ,in, deg, , ,, , ,, grid, , , ,N
Point16,xy, , ,in, deg, , ,, , ,, grid, , , ,N
Point17,xy, , ,in, deg, , ,, , ,, grid, , , ,N
Point18,xy, , ,in, deg, , ,, , ,, grid, , , ,N
Point19,xy, , ,in, deg, , ,, , ,, grid, , , ,N
Point20,xy, , ,in, deg, , ,, , ,, grid, , , ,N
Point21,xy, , ,in, deg, , ,, , ,, grid, , , ,N
Point22,xy, , ,in, deg, , ,, , ,, grid, , , ,N
Point23,xy, , ,in, deg, , ,, , ,, grid, , , ,N
Point24,xy, , ,in, deg, , ,, , ,, grid, , , ,N
Point25,xy, , ,in, deg, , ,, , ,, grid, , , ,N
Point26,xy, , ,in, deg, , ,, , ,, grid, , , ,N
Point27,xy, , ,in, deg, , ,, , ,, grid, , , ,N
Point28,xy, , ,in, deg, , ,, , ,, grid, , , ,N
Point29,xy, , ,in, deg, , ,, , ,, grid, , , ,N
Point30,xy, , ,in, deg, , ,, , ,, grid, , , ,N
Projection Setup, 0.000000000, 45.000000000, 1.000000000, 8500000.00, 0.00,,,,,
Map Feature = MF ; Map Comment = MC These follow if they exist
Track File = TF These follow if they exist
Moving Map Parameters = MM? These follow if they exist
MM0,Yes
MMPNUM,4
MMPXY,1,79,151
MMPXY,2,2243,153
MMPXY,3,2247,2359
MMPXY,4,70,2357
MMPLL,1, 43.999282, 49.000433
MMPLL,2, 44.500638, 49.000409
MMPLL,3, 44.500439, 48.666141
MMPLL,4, 43.999560, 48.666317
MM1B,16.941489
Other Grid Setup
GRGRID,Yes,2 Km,No,16711680,255,2 Km,0,16777215,8,0,Yes,Yes,No,x
MOP,Map Open Position,0,0
IWH,Map Image Width/Height,2344,2582
