OziExplorer Map Data File Version 2.2
m38-118
Y:\ozi_map\work_map\1\m38-118.jpg
1 ,Map Code,
Pulkovo 1942 (1),, 0.0000, 0.0000,WGS 84
Reserved 1
Reserved 2
Magnetic Variation,,,E
Map Projection,Transverse Mercator,PolyCal,Yes,AutoCalOnly,No,BSBUseWPX,No
Point01,xy, 88, 156,in, deg, 49, 0.0000,N, 46, 30.0000,E, grid, , , ,N
Point02,xy, 1170, 156,in, deg, 49, 0.0000,N, 46, 45.0000,E, grid, , , ,N
Point03,xy, 2254, 151,in, deg, 49, 0.0000,N, 47, 0.0000,E, grid, , , ,N
Point04,xy, 88, 1252,in, deg, 48, 50.0000,N, 46, 30.0000,E, grid, , , ,N
Point05,xy, 1175, 1250,in, deg, 48, 50.0000,N, 46, 45.0000,E, grid, , , ,N
Point06,xy, 2259, 1246,in, deg, 48, 50.0000,N, 47, 0.0000,E, grid, , , ,N
Point07,xy, 88, 2347,in, deg, 48, 40.0000,N, 46, 30.0000,E, grid, , , ,N
Point08,xy, 1177, 2346,in, deg, 48, 40.0000,N, 46, 45.0000,E, grid, , , ,N
Point09,xy, 2267, 2341,in, deg, 48, 40.0000,N, 47, 0.0000,E, grid, , , ,N
Point10,xy, , ,in, deg, , ,, , ,, grid, , , ,N
Point11,xy, , ,in, deg, , ,, , ,, grid, , , ,N
Point12,xy, , ,in, deg, , ,, , ,, grid, , , ,N
Point13,xy, , ,in, deg, , ,, , ,, grid, , , ,N
Point14,xy, , ,in, deg, , ,, , ,, grid, , , ,N
Point15,xy, , ,in, deg, , ,, , ,, grid, , , ,N
Point16,xy, , ,in, deg, , ,, , ,, grid, , , ,N
Point17,xy, , ,in, deg, , ,, , ,, grid, , , ,N
Point18,xy, , ,in, deg, , ,, , ,, grid, , , ,N
Point19,xy, , ,in, deg, , ,, , ,, grid, , , ,N
Point20,xy, , ,in, deg, , ,, , ,, grid, , , ,N
Point21,xy, , ,in, deg, , ,, , ,, grid, , , ,N
Point22,xy, , ,in, deg, , ,, , ,, grid, , , ,N
Point23,xy, , ,in, deg, , ,, , ,, grid, , , ,N
Point24,xy, , ,in, deg, , ,, , ,, grid, , , ,N
Point25,xy, , ,in, deg, , ,, , ,, grid, , , ,N
Point26,xy, , ,in, deg, , ,, , ,, grid, , , ,N
Point27,xy, , ,in, deg, , ,, , ,, grid, , , ,N
Point28,xy, , ,in, deg, , ,, , ,, grid, , , ,N
Point29,xy, , ,in, deg, , ,, , ,, grid, , , ,N
Point30,xy, , ,in, deg, , ,, , ,, grid, , , ,N
Projection Setup, 0.000000000, 45.000000000, 1.000000000, 8500000.00, 0.00,,,,,
Map Feature = MF ; Map Comment = MC These follow if they exist
Track File = TF These follow if they exist
Moving Map Parameters = MM? These follow if they exist
MM0,Yes
MMPNUM,4
MMPXY,1,85,153
MMPXY,2,2256,148
MMPXY,3,2269,2342
MMPXY,4,86,2350
MMPLL,1, 46.499326, 49.000503
MMPLL,2, 47.000602, 49.000476
MMPLL,3, 47.000554, 48.666508
MMPLL,4, 46.499522, 48.666231
MM1B,16.894033
Other Grid Setup
GRGRID,Yes,2 Km,No,16711680,255,2 Km,0,16777215,8,0,Yes,Yes,No,x
MOP,Map Open Position,0,0
IWH,Map Image Width/Height,2363,2571
