OziExplorer Map Data File Version 2.2
m38-121
Y:\ozi_map\work_map\1\m38-121.jpg
1 ,Map Code,
Pulkovo 1942 (1),, 0.0000, 0.0000,WGS 84
Reserved 1
Reserved 2
Magnetic Variation,,,E
Map Projection,Transverse Mercator,PolyCal,Yes,AutoCalOnly,No,BSBUseWPX,No
Point01,xy, 91, 166,in, deg, 48, 40.0000,N, 42, 0.0000,E, grid, , , ,N
Point02,xy, 1275, 167,in, deg, 48, 40.0000,N, 42, 15.0000,E, grid, , , ,N
Point03,xy, 2457, 166,in, deg, 48, 40.0000,N, 42, 30.0000,E, grid, , , ,N
Point04,xy, 87, 1364,in, deg, 48, 30.0000,N, 42, 0.0000,E, grid, , , ,N
Point05,xy, 1271, 1366,in, deg, 48, 30.0000,N, 42, 15.0000,E, grid, , , ,N
Point06,xy, 2460, 1362,in, deg, 48, 30.0000,N, 42, 30.0000,E, grid, , , ,N
Point07,xy, 83, 2561,in, deg, 48, 20.0000,N, 42, 0.0000,E, grid, , , ,N
Point08,xy, 1272, 2561,in, deg, 48, 20.0000,N, 42, 15.0000,E, grid, , , ,N
Point09,xy, 2463, 2560,in, deg, 48, 20.0000,N, 42, 30.0000,E, grid, , , ,N
Point10,xy, , ,in, deg, , ,, , ,, grid, , , ,N
Point11,xy, , ,in, deg, , ,, , ,, grid, , , ,N
Point12,xy, , ,in, deg, , ,, , ,, grid, , , ,N
Point13,xy, , ,in, deg, , ,, , ,, grid, , , ,N
Point14,xy, , ,in, deg, , ,, , ,, grid, , , ,N
Point15,xy, , ,in, deg, , ,, , ,, grid, , , ,N
Point16,xy, , ,in, deg, , ,, , ,, grid, , , ,N
Point17,xy, , ,in, deg, , ,, , ,, grid, , , ,N
Point18,xy, , ,in, deg, , ,, , ,, grid, , , ,N
Point19,xy, , ,in, deg, , ,, , ,, grid, , , ,N
Point20,xy, , ,in, deg, , ,, , ,, grid, , , ,N
Point21,xy, , ,in, deg, , ,, , ,, grid, , , ,N
Point22,xy, , ,in, deg, , ,, , ,, grid, , , ,N
Point23,xy, , ,in, deg, , ,, , ,, grid, , , ,N
Point24,xy, , ,in, deg, , ,, , ,, grid, , , ,N
Point25,xy, , ,in, deg, , ,, , ,, grid, , , ,N
Point26,xy, , ,in, deg, , ,, , ,, grid, , , ,N
Point27,xy, , ,in, deg, , ,, , ,, grid, , , ,N
Point28,xy, , ,in, deg, , ,, , ,, grid, , , ,N
Point29,xy, , ,in, deg, , ,, , ,, grid, , , ,N
Point30,xy, , ,in, deg, , ,, , ,, grid, , , ,N
Projection Setup, 0.000000000, 45.000000000, 1.000000000, 8500000.00, 0.00,,,,,
Map Feature = MF ; Map Comment = MC These follow if they exist
Track File = TF These follow if they exist
Moving Map Parameters = MM? These follow if they exist
MM0,Yes
MMPNUM,4
MMPXY,1,88,164
MMPXY,2,2459,163
MMPXY,3,2466,2563
MMPXY,4,81,2564
MMPLL,1, 41.999233, 48.666955
MMPLL,2, 42.500294, 48.667025
MMPLL,3, 42.500638, 48.332833
MMPLL,4, 41.999592, 48.332903
MM1B,15.560863
Other Grid Setup
GRGRID,Yes,2 Km,No,16711680,255,2 Km,0,16777215,8,0,Yes,Yes,No,x
MOP,Map Open Position,0,0
IWH,Map Image Width/Height,2568,2800
