OziExplorer Map Data File Version 2.2
m38-133
Y:\ozi_map\work_map\1\m38-133.jpg
1 ,Map Code,
Pulkovo 1942 (1),, 0.0000, 0.0000,WGS 84
Reserved 1
Reserved 2
Magnetic Variation,,,E
Map Projection,Transverse Mercator,PolyCal,Yes,AutoCalOnly,No,BSBUseWPX,No
Point01,xy, 87, 162,in, deg, 48, 20.0000,N, 42, 0.0000,E, grid, , , ,N
Point02,xy, 1183, 161,in, deg, 48, 20.0000,N, 42, 15.0000,E, grid, , , ,N
Point03,xy, 2281, 158,in, deg, 48, 20.0000,N, 42, 30.0000,E, grid, , , ,N
Point04,xy, 84, 1259,in, deg, 48, 10.0000,N, 42, 0.0000,E, grid, , , ,N
Point05,xy, 1186, 1258,in, deg, 48, 10.0000,N, 42, 15.0000,E, grid, , , ,N
Point06,xy, 2286, 1255,in, deg, 48, 10.0000,N, 42, 30.0000,E, grid, , , ,N
Point07,xy, 81, 2354,in, deg, 48, 0.0000,N, 42, 0.0000,E, grid, , , ,N
Point08,xy, 1187, 2355,in, deg, 48, 0.0000,N, 42, 15.0000,E, grid, , , ,N
Point09,xy, 2289, 2352,in, deg, 48, 0.0000,N, 42, 30.0000,E, grid, , , ,N
Point10,xy, , ,in, deg, , ,, , ,, grid, , , ,N
Point11,xy, , ,in, deg, , ,, , ,, grid, , , ,N
Point12,xy, , ,in, deg, , ,, , ,, grid, , , ,N
Point13,xy, , ,in, deg, , ,, , ,, grid, , , ,N
Point14,xy, , ,in, deg, , ,, , ,, grid, , , ,N
Point15,xy, , ,in, deg, , ,, , ,, grid, , , ,N
Point16,xy, , ,in, deg, , ,, , ,, grid, , , ,N
Point17,xy, , ,in, deg, , ,, , ,, grid, , , ,N
Point18,xy, , ,in, deg, , ,, , ,, grid, , , ,N
Point19,xy, , ,in, deg, , ,, , ,, grid, , , ,N
Point20,xy, , ,in, deg, , ,, , ,, grid, , , ,N
Point21,xy, , ,in, deg, , ,, , ,, grid, , , ,N
Point22,xy, , ,in, deg, , ,, , ,, grid, , , ,N
Point23,xy, , ,in, deg, , ,, , ,, grid, , , ,N
Point24,xy, , ,in, deg, , ,, , ,, grid, , , ,N
Point25,xy, , ,in, deg, , ,, , ,, grid, , , ,N
Point26,xy, , ,in, deg, , ,, , ,, grid, , , ,N
Point27,xy, , ,in, deg, , ,, , ,, grid, , , ,N
Point28,xy, , ,in, deg, , ,, , ,, grid, , , ,N
Point29,xy, , ,in, deg, , ,, , ,, grid, , , ,N
Point30,xy, , ,in, deg, , ,, , ,, grid, , , ,N
Projection Setup, 0.000000000, 45.000000000, 1.000000000, 8500000.00, 0.00,,,,,
Map Feature = MF ; Map Comment = MC These follow if they exist
Track File = TF These follow if they exist
Moving Map Parameters = MM? These follow if they exist
MM0,Yes
MMPNUM,4
MMPXY,1,85,160
MMPXY,2,2284,155
MMPXY,3,2292,2355
MMPXY,4,80,2358
MMPLL,1, 41.999708, 48.333645
MMPLL,2, 42.500777, 48.333744
MMPLL,3, 42.500541, 47.999551
MMPLL,4, 41.999714, 47.999450
MM1B,16.887600
Other Grid Setup
GRGRID,Yes,2 Km,No,16711680,255,2 Km,0,16777215,8,0,Yes,Yes,No,x
MOP,Map Open Position,0,0
IWH,Map Image Width/Height,2375,2570
